BEGIN:VCALENDAR
VERSION:2.0
PRODID:-//Jagdaufseherverband NRW e.V. - ECPv6.15.20//NONSGML v1.0//EN
CALSCALE:GREGORIAN
METHOD:PUBLISH
X-ORIGINAL-URL:https://www.jagdschutz-nrw.de
X-WR-CALDESC:Veranstaltungen für Jagdaufseherverband NRW e.V.
REFRESH-INTERVAL;VALUE=DURATION:PT1H
X-Robots-Tag:noindex
X-PUBLISHED-TTL:PT1H
BEGIN:VTIMEZONE
TZID:Europe/Berlin
BEGIN:DAYLIGHT
TZOFFSETFROM:+0100
TZOFFSETTO:+0200
TZNAME:CEST
DTSTART:20220327T010000
END:DAYLIGHT
BEGIN:STANDARD
TZOFFSETFROM:+0200
TZOFFSETTO:+0100
TZNAME:CET
DTSTART:20221030T010000
END:STANDARD
BEGIN:DAYLIGHT
TZOFFSETFROM:+0100
TZOFFSETTO:+0200
TZNAME:CEST
DTSTART:20230326T010000
END:DAYLIGHT
BEGIN:STANDARD
TZOFFSETFROM:+0200
TZOFFSETTO:+0100
TZNAME:CET
DTSTART:20231029T010000
END:STANDARD
BEGIN:DAYLIGHT
TZOFFSETFROM:+0100
TZOFFSETTO:+0200
TZNAME:CEST
DTSTART:20240331T010000
END:DAYLIGHT
BEGIN:STANDARD
TZOFFSETFROM:+0200
TZOFFSETTO:+0100
TZNAME:CET
DTSTART:20241027T010000
END:STANDARD
END:VTIMEZONE
BEGIN:VEVENT
DTSTART;TZID=Europe/Berlin:20230616T100000
DTEND;TZID=Europe/Berlin:20230616T160000
DTSTAMP:20260425T123853
CREATED:20230203T201626Z
LAST-MODIFIED:20230203T201835Z
UID:10000048-1686909600-1686931200@www.jagdschutz-nrw.de
SUMMARY:Kurzwaffentraining mit Martin Sellinghoff
DESCRIPTION:Datum:     16.06.2023\nZeit:          10:00 Uhr – 16:00 Uhr\nOrt:           Jagd-Schießcenter Schmithüsen\, Küvenkamp 24\, 46509 Xanten \nReferent:   Martin Sellinghoff\, Hegemeister\, Schießobmann des JV NRW e.V. \n  \nAllgemeines Kurzwaffentraining mit unserem bekannten Schießausbilder Martin Sellinghoff! Schwerpunkt ist der sichere Fangschuss in der jagdlichen Praxis\, insbesondere \n– Ermitteln des Haltepunkts\n– Schießen aus verschiedenen Distanzen\n– Schießen und Laden (Magazinwechsel)\n– Schießen bei schlechtem Licht (Low Light) \nZur Teilnahme wird benötigt: \n\nKurzwaffe im fangschusstauglichen Kaliber\n2. Magazin oder Speedloader\nHolster für die Kurzwaffe\nGehörschutz\nSchießbrille\nca. 150 Schuss Munition\nTaschenlampe (für Teil II und III)\n\n  \nDie Veranstaltung ist auf 15 Teilnehmer beschränkt; es gilt die Reihenfolge der Anmeldung. Weiter Info und Rückfragen an Bildungsreferent Stefan König unter fortbildung@jagdschutz-nrw.de. \nEs gelten die Teilnahmebedingungen des JV NRW e.V. \nTeilnehmerbeitrag für Mitglieder des Jagdaufseherverbandes NRW e.V. 95\,00 € / Gäste 130\,00 €.  Anmeldung bis spätestens zum 14.06.2023 hier über die Seite.
URL:https://www.jagdschutz-nrw.de/event/kurzwaffentraining-mit-martin-sellinghoff/
LOCATION:Jagd- Schießcenter Schmithüsen\, Xanten\, Küvenkamp 24\, Xanten\, NRW\, 46509\, Germany
CATEGORIES:Mitglieder und Gäste
ATTACH;FMTTYPE=image/jpeg:https://www.jagdschutz-nrw.de/wp-content/uploads/2023/02/IMG_20170811_145533210-scaled.jpg
END:VEVENT
END:VCALENDAR