BEGIN:VCALENDAR
VERSION:2.0
PRODID:-//Jagdaufseherverband NRW e.V. - ECPv6.15.20//NONSGML v1.0//EN
CALSCALE:GREGORIAN
METHOD:PUBLISH
X-ORIGINAL-URL:https://www.jagdschutz-nrw.de
X-WR-CALDESC:Veranstaltungen für Jagdaufseherverband NRW e.V.
REFRESH-INTERVAL;VALUE=DURATION:PT1H
X-Robots-Tag:noindex
X-PUBLISHED-TTL:PT1H
BEGIN:VTIMEZONE
TZID:Europe/Berlin
BEGIN:DAYLIGHT
TZOFFSETFROM:+0100
TZOFFSETTO:+0200
TZNAME:CEST
DTSTART:20250330T010000
END:DAYLIGHT
BEGIN:STANDARD
TZOFFSETFROM:+0200
TZOFFSETTO:+0100
TZNAME:CET
DTSTART:20251026T010000
END:STANDARD
BEGIN:DAYLIGHT
TZOFFSETFROM:+0100
TZOFFSETTO:+0200
TZNAME:CEST
DTSTART:20260329T010000
END:DAYLIGHT
BEGIN:STANDARD
TZOFFSETFROM:+0200
TZOFFSETTO:+0100
TZNAME:CET
DTSTART:20261025T010000
END:STANDARD
BEGIN:DAYLIGHT
TZOFFSETFROM:+0100
TZOFFSETTO:+0200
TZNAME:CEST
DTSTART:20270328T010000
END:DAYLIGHT
BEGIN:STANDARD
TZOFFSETFROM:+0200
TZOFFSETTO:+0100
TZNAME:CET
DTSTART:20271031T010000
END:STANDARD
END:VTIMEZONE
BEGIN:VEVENT
DTSTART;TZID=Europe/Berlin:20260207T110000
DTEND;TZID=Europe/Berlin:20260208T170000
DTSTAMP:20260422T203445
CREATED:20250604T110425Z
LAST-MODIFIED:20251019T175228Z
UID:10000079-1770462000-1770570000@www.jagdschutz-nrw.de
SUMMARY:Wiederladelehrgang nach § 27 Sprengstoffgesetz -AUSGEBUCHT-
DESCRIPTION:Der Lehrgang ist leider ausgebucht – es sind keine Anmeldungen mehr möglich! \nWiederladelehrgang nach § 27 Sprengstoffgesetz \nvom        07.02. – 08.02.2026\nKosten: 250\,00 €\nOrt:       Haus Hamacher\, Am Freibad 10\, 52538 Gangelt \n  \nGemeinsam mit der KJS Aachen Stadt & Land und der KJS Heinsberg führen wir ein\nSeminar zur Erlangung einer Erlaubnis nach § 27 SprengG („Wiederladeschein“) durch. \nIn einem 2-tägigen Lehrgang werden die notwendigen Kenntnisse in den Bereichen Ladekomponenten\, Geräte & Werkzeuge\, Ladeverfahren und Ballistik vermittelt. Praktische Vorführungen und einzelne Übungen an beiden Tagen vertiefen die theoretischen Grundlagen. \nDer Lehrgang schließt mit einer staatlichen Prüfung ab. \nDas nach bestandener Prüfung ausgehändigte Zeugnis dient zur Beantragung einer Erlaubnis\nnach § 27 Sprengstoffgesetz bei der zuständigen Behörde. \nVoraussetzungen für die Teilnahme am Lehrgang sind: \n\nEine gültige Unbedenklichkeitsbescheinigung nach § 34 Abs. 2 der 1.Verordnung zum Sprengstoffgesetz\, kurz UB. Diese muss 4 Wochen vor Lehrgangsbeginn vorliegen. Die UB muss dazu rechtzeitig bei ihrer zuständigen Behörde beantragt werden.\ndie Teilnehmer müssen Jäger oder Sportschützen sein (Bedürfnis)\nMindestalter 21 Jahre\ndeutscher Staatsbürger\n\nTeilnehmerzahl: maximal 20 Personen. Bei mehr Interessenten gilt die Reihenfolge der Anmeldung auf die Interessentenliste. Es gelten die Teilnahmebedingungen des JV NRW e.V. \nTeilnahmegebühr: 250\,00 € (incl. Prüfungsgebühren) \n 
URL:https://www.jagdschutz-nrw.de/event/wiederladelehrgang-nach-%c2%a7-27-sprengstoffgesetz/
CATEGORIES:Mitglieder und Gäste
ATTACH;FMTTYPE=image/jpeg:https://www.jagdschutz-nrw.de/wp-content/uploads/2025/06/bullets-89083_1280.jpg
ORGANIZER;CN="Jagdaufseherverband NRW e.V.":MAILTO:info@jagdschutz-nrw.de
END:VEVENT
END:VCALENDAR